BEGIN:VCALENDAR
VERSION:2.0
PRODID:-//Transplant Kids e.V.//NONSGML kigkonsult.se iCalcreator 2.30.10//
CALSCALE:GREGORIAN
METHOD:PUBLISH
UID:ed9394ff-b9c5-4083-9a2b-1f0c033f708f
X-WR-CALNAME:iCagenda
X-WR-CALDESC:Event Management Extension for Joomla!
X-WR-RELCALID:3E26604A-50F4-4449-8B3E-E4F4932D05B5
X-WR-TIMEZONE:Europe/Berlin
BEGIN:VTIMEZONE
TZID:Europe/Berlin
BEGIN:STANDARD
TZNAME:CET
DTSTART:20251026T030000
TZOFFSETFROM:+0200
TZOFFSETTO:+0100
RDATE:20261025T030000
RDATE:20271031T030000
END:STANDARD
BEGIN:DAYLIGHT
TZNAME:CEST
DTSTART:20260329T020000
TZOFFSETFROM:+0100
TZOFFSETTO:+0200
RDATE:20270328T020000
END:DAYLIGHT
END:VTIMEZONE
BEGIN:VEVENT
UID:62ef7b92-91d1-4843-a007-6804e24daf34
DTSTAMP:20260420T185121Z
CATEGORIES:TX Kids Camp
CLASS:PUBLIC
DESCRIPTION:
DTSTART:20260917T193900Z
DTEND:20260920T193900Z
GEO:00;0
LOCATION:Hannover
ORGANIZER:
SEQUENCE:1
SUMMARY:Camp für junge Erwachsene
TRANSP:OPAQUE
URL:https://transplant-kids.de/service/aktuelle-termine/74-camp-fuer-junge-
 erwachsene
END:VEVENT
END:VCALENDAR
