BEGIN:VCALENDAR
VERSION:2.0
PRODID:-//Transplant Kids e.V.//NONSGML kigkonsult.se iCalcreator 2.30.10//
CALSCALE:GREGORIAN
METHOD:PUBLISH
UID:e379dd39-4e1d-438b-9fe6-92a112b06c0b
X-WR-CALNAME:iCagenda
X-WR-CALDESC:Event Management Extension for Joomla!
X-WR-RELCALID:3E26604A-50F4-4449-8B3E-E4F4932D05B5
X-WR-TIMEZONE:Europe/Berlin
BEGIN:VTIMEZONE
TZID:Europe/Berlin
BEGIN:STANDARD
TZNAME:CET
DTSTART:20251026T030000
TZOFFSETFROM:+0200
TZOFFSETTO:+0100
RDATE:20261025T030000
END:STANDARD
BEGIN:DAYLIGHT
TZNAME:CEST
DTSTART:20250330T020000
TZOFFSETFROM:+0100
TZOFFSETTO:+0200
RDATE:20260329T020000
RDATE:20270328T020000
END:DAYLIGHT
END:VTIMEZONE
BEGIN:VEVENT
UID:7bb38b03-a1d5-44d5-aee1-6fb8f052372a
DTSTAMP:20260421T021009Z
CATEGORIES:Infostand
CLASS:PUBLIC
DESCRIPTION:
DTSTART:20251217T150000Z
DTEND:20251217T210000Z
GEO:00;0
LOCATION:Wiesmoor Freilichtbühne
ORGANIZER:
SEQUENCE:1
SUMMARY:Wiesmoorer Weihnachtssingen
TRANSP:OPAQUE
URL:https://transplant-kids.de/component/icagenda/77-wiesmoorer-weihnachtss
 ingen?Itemid=101
END:VEVENT
END:VCALENDAR
