BEGIN:VCALENDAR
VERSION:2.0
PRODID:-//Transplant Kids e.V.//NONSGML kigkonsult.se iCalcreator 2.30.10//
CALSCALE:GREGORIAN
METHOD:PUBLISH
UID:18cd9d72-394a-4bdf-98d4-8ab7834eff73
X-WR-CALNAME:iCagenda
X-WR-CALDESC:Event Management Extension for Joomla!
X-WR-RELCALID:3E26604A-50F4-4449-8B3E-E4F4932D05B5
X-WR-TIMEZONE:Europe/Berlin
BEGIN:VTIMEZONE
TZID:Europe/Berlin
BEGIN:STANDARD
TZNAME:CET
DTSTART:20251026T030000
TZOFFSETFROM:+0200
TZOFFSETTO:+0100
RDATE:20261025T030000
END:STANDARD
BEGIN:DAYLIGHT
TZNAME:CEST
DTSTART:20250330T020000
TZOFFSETFROM:+0100
TZOFFSETTO:+0200
RDATE:20260329T020000
RDATE:20270328T020000
END:DAYLIGHT
END:VTIMEZONE
BEGIN:VEVENT
UID:346a6b51-5730-42d6-9737-55d9b988ef8d
DTSTAMP:20260421T000714Z
CATEGORIES:Infostand
CLASS:PUBLIC
DESCRIPTION:
DTSTART:20260124T070000Z
DTEND:20260124T170000Z
GEO:00;0
LOCATION:Hüllenweg 21a\, 26676 Barßel
ORGANIZER:
SEQUENCE:1
SUMMARY:Schulranzenparty Bürotechnik Meiners-Hagen
TRANSP:OPAQUE
URL:https://transplant-kids.de/component/icagenda/63-schulranzenparty-buero
 technik-meiners-hagen?Itemid=101
END:VEVENT
END:VCALENDAR
