BEGIN:VCALENDAR
VERSION:2.0
PRODID:-//Transplant Kids e.V.//NONSGML kigkonsult.se iCalcreator 2.30.10//
CALSCALE:GREGORIAN
METHOD:PUBLISH
UID:1e6d34c4-7820-4e77-b44c-0a003af8f024
X-WR-CALNAME:iCagenda
X-WR-CALDESC:Event Management Extension for Joomla!
X-WR-RELCALID:3E26604A-50F4-4449-8B3E-E4F4932D05B5
X-WR-TIMEZONE:Europe/Berlin
BEGIN:VTIMEZONE
TZID:Europe/Berlin
BEGIN:STANDARD
TZNAME:CET
DTSTART:20251026T030000
TZOFFSETFROM:+0200
TZOFFSETTO:+0100
RDATE:20261025T030000
END:STANDARD
BEGIN:DAYLIGHT
TZNAME:CEST
DTSTART:20250330T020000
TZOFFSETFROM:+0100
TZOFFSETTO:+0200
RDATE:20260329T020000
RDATE:20270328T020000
END:DAYLIGHT
END:VTIMEZONE
BEGIN:VEVENT
UID:891e2ce0-f07b-46bd-88af-3aa9c3283e0d
DTSTAMP:20260421T021008Z
CATEGORIES:Infostand
CLASS:PUBLIC
DESCRIPTION:
DTSTART:20251221T130000Z
DTEND:20251221T220000Z
GEO:00;0
LOCATION:auf dem Dorfplatz
ORGANIZER:
SEQUENCE:1
SUMMARY:Weihnachtsmarkt in Holtland
TRANSP:OPAQUE
URL:https://transplant-kids.de/component/icagenda/59-weihnachtsmarkt-in-hol
 tland?Itemid=101
END:VEVENT
END:VCALENDAR
