BEGIN:VCALENDAR
VERSION:2.0
PRODID:-//Transplant Kids e.V.//NONSGML kigkonsult.se iCalcreator 2.30.10//
CALSCALE:GREGORIAN
METHOD:PUBLISH
UID:ba9e42f8-82d7-42a0-bd76-7f0d1eb5e80a
X-WR-CALNAME:iCagenda
X-WR-CALDESC:Event Management Extension for Joomla!
X-WR-RELCALID:3E26604A-50F4-4449-8B3E-E4F4932D05B5
X-WR-TIMEZONE:Europe/Berlin
BEGIN:VTIMEZONE
TZID:Europe/Berlin
BEGIN:STANDARD
TZNAME:CET
DTSTART:20251026T030000
TZOFFSETFROM:+0200
TZOFFSETTO:+0100
RDATE:20261025T030000
END:STANDARD
BEGIN:DAYLIGHT
TZNAME:CEST
DTSTART:20250330T020000
TZOFFSETFROM:+0100
TZOFFSETTO:+0200
RDATE:20260329T020000
RDATE:20270328T020000
END:DAYLIGHT
END:VTIMEZONE
BEGIN:VEVENT
UID:f614ad13-0f9e-4af7-a935-3fafdd126d95
DTSTAMP:20260421T034937Z
CATEGORIES:Infostand
CLASS:PUBLIC
DESCRIPTION:
DTSTART:20251124T090000Z
DTEND:20251127T150000Z
GEO:00;0
LOCATION:Ostalb-Klinikum Aalen
ORGANIZER:
SEQUENCE:1
SUMMARY:Weihnachtsmarkt Ostalb-Klinikum Aalen
TRANSP:OPAQUE
URL:https://transplant-kids.de/component/icagenda/58-weihnachtsmarkt-ostalb
 -klinikum-aalen?Itemid=101
END:VEVENT
END:VCALENDAR
