BEGIN:VCALENDAR
VERSION:2.0
PRODID:-//Transplant Kids e.V.//NONSGML kigkonsult.se iCalcreator 2.30.10//
CALSCALE:GREGORIAN
METHOD:PUBLISH
UID:541ad513-b4d0-4eb9-b600-1892011aeb6d
X-WR-CALNAME:iCagenda
X-WR-CALDESC:Event Management Extension for Joomla!
X-WR-RELCALID:3E26604A-50F4-4449-8B3E-E4F4932D05B5
X-WR-TIMEZONE:Europe/Berlin
BEGIN:VTIMEZONE
TZID:Europe/Berlin
BEGIN:STANDARD
TZNAME:CET
DTSTART:20231029T030000
TZOFFSETFROM:+0200
TZOFFSETTO:+0100
RDATE:20241027T030000
RDATE:20251026T030000
END:STANDARD
BEGIN:DAYLIGHT
TZNAME:CEST
DTSTART:20240331T020000
TZOFFSETFROM:+0100
TZOFFSETTO:+0200
RDATE:20250330T020000
RDATE:20260329T020000
END:DAYLIGHT
END:VTIMEZONE
BEGIN:VEVENT
UID:cab2c370-be73-4ae4-b132-a9078b8d4691
DTSTAMP:20260422T015723Z
CATEGORIES:Verein
CLASS:PUBLIC
DESCRIPTION;ALTREP="CID:<FFFF__=0ABBE548DFE235B58f9e8a93d@coffeebean.com>":
 Veranstalter: 'Westadt-Aktivgruppe Treffpunkte' Hofherrnweiler-AalenRefere
 nt: Ralf Michels\, Hochschule AalenErlös der Veranstaltung kommt Transplan
 t-Kids e.V. zu Gute / (Vorstellung des Vereins durch Grit Ose-Weth)
DTSTART:20241008T220000Z
DTEND:20241008T220000Z
GEO:00;0
LOCATION:
ORGANIZER:
SEQUENCE:1
SUMMARY:Benefizvortrag in Aalen
TRANSP:OPAQUE
URL:https://transplant-kids.de/component/icagenda/57-benefizvortrag-in-aale
 n?Itemid=101
END:VEVENT
END:VCALENDAR
