BEGIN:VCALENDAR
VERSION:2.0
PRODID:-//Transplant Kids e.V.//NONSGML kigkonsult.se iCalcreator 2.30.10//
CALSCALE:GREGORIAN
METHOD:PUBLISH
UID:3a5d9599-6959-4232-b5a4-2b6b27ae5b88
X-WR-CALNAME:iCagenda
X-WR-CALDESC:Event Management Extension for Joomla!
X-WR-RELCALID:3E26604A-50F4-4449-8B3E-E4F4932D05B5
X-WR-TIMEZONE:Europe/Berlin
BEGIN:VTIMEZONE
TZID:Europe/Berlin
BEGIN:STANDARD
TZNAME:CET
DTSTART:20241027T030000
TZOFFSETFROM:+0200
TZOFFSETTO:+0100
RDATE:20251026T030000
END:STANDARD
BEGIN:DAYLIGHT
TZNAME:CEST
DTSTART:20240331T020000
TZOFFSETFROM:+0100
TZOFFSETTO:+0200
RDATE:20250330T020000
RDATE:20260329T020000
END:DAYLIGHT
END:VTIMEZONE
BEGIN:VEVENT
UID:0ad4b02b-f7f5-40a1-8b69-16ec3a7944fd
DTSTAMP:20260421T221225Z
CATEGORIES:Infostand
CLASS:PUBLIC
DESCRIPTION:
DTSTART:20241215T120000Z
DTEND:20241215T190000Z
GEO:00;0
LOCATION:Wiesmoor
ORGANIZER:
SEQUENCE:1
SUMMARY:Infostand beim Weihnachtsmarkt Wiesmoor
TRANSP:OPAQUE
URL:https://transplant-kids.de/component/icagenda/55-infostand-beim-weihnac
 htsmarkt-wiesmoor-2?Itemid=101
END:VEVENT
END:VCALENDAR
