BEGIN:VCALENDAR
VERSION:2.0
PRODID:-//Transplant Kids e.V.//NONSGML kigkonsult.se iCalcreator 2.30.10//
CALSCALE:GREGORIAN
METHOD:PUBLISH
UID:760df630-f36f-48fb-91fc-25607f7a6322
X-WR-CALNAME:iCagenda
X-WR-CALDESC:Event Management Extension for Joomla!
X-WR-RELCALID:3E26604A-50F4-4449-8B3E-E4F4932D05B5
X-WR-TIMEZONE:Europe/Berlin
BEGIN:VTIMEZONE
TZID:Europe/Berlin
BEGIN:STANDARD
TZNAME:CET
DTSTART:20251026T030000
TZOFFSETFROM:+0200
TZOFFSETTO:+0100
RDATE:20261025T030000
END:STANDARD
BEGIN:DAYLIGHT
TZNAME:CEST
DTSTART:20250330T020000
TZOFFSETFROM:+0100
TZOFFSETTO:+0200
RDATE:20260329T020000
RDATE:20270328T020000
END:DAYLIGHT
END:VTIMEZONE
BEGIN:VEVENT
UID:fbb8557b-3c5c-4687-87a3-5a167ac39923
DTSTAMP:20260420T222538Z
CATEGORIES:Verein
CLASS:PUBLIC
DESCRIPTION:
DTSTART:20260226T154200Z
DTEND:20260227T154200Z
GEO:00;0
LOCATION:Hamburg
ORGANIZER:
SEQUENCE:1
SUMMARY:Kinderschutzpreis HanseMerkur
TRANSP:OPAQUE
URL:https://transplant-kids.de/component/icagenda/51-kinderschutzpreis-hans
 emerkur?Itemid=101
END:VEVENT
END:VCALENDAR
