BEGIN:VCALENDAR
VERSION:2.0
PRODID:-//Transplant Kids e.V.//NONSGML kigkonsult.se iCalcreator 2.30.10//
CALSCALE:GREGORIAN
METHOD:PUBLISH
UID:1b9fbf59-c02f-4d2e-beb2-bcadb471c093
X-WR-CALNAME:iCagenda
X-WR-CALDESC:Event Management Extension for Joomla!
X-WR-RELCALID:3E26604A-50F4-4449-8B3E-E4F4932D05B5
X-WR-TIMEZONE:Europe/Berlin
BEGIN:VTIMEZONE
TZID:Europe/Berlin
BEGIN:STANDARD
TZNAME:CET
DTSTART:20241027T030000
TZOFFSETFROM:+0200
TZOFFSETTO:+0100
RDATE:20251026T030000
RDATE:20261025T030000
END:STANDARD
BEGIN:DAYLIGHT
TZNAME:CEST
DTSTART:20250330T020000
TZOFFSETFROM:+0100
TZOFFSETTO:+0200
RDATE:20260329T020000
RDATE:20270328T020000
END:DAYLIGHT
END:VTIMEZONE
BEGIN:VEVENT
UID:bc868cee-693e-4d0c-8914-a058ab97f6b6
DTSTAMP:20260421T053506Z
CATEGORIES:Verein
CLASS:PUBLIC
DESCRIPTION:
DTSTART:20251009T183400Z
DTEND:20251011T183400Z
GEO:00;0
LOCATION:Essen
ORGANIZER:
SEQUENCE:1
SUMMARY:DTG Tagung Jahrestagung
TRANSP:OPAQUE
URL:https://transplant-kids.de/component/icagenda/49-dtg-tagung-in-freiburg
 ?Itemid=101
END:VEVENT
END:VCALENDAR
