BEGIN:VCALENDAR
VERSION:2.0
PRODID:-//Transplant Kids e.V.//NONSGML kigkonsult.se iCalcreator 2.30.10//
CALSCALE:GREGORIAN
METHOD:PUBLISH
UID:9814469c-7bd8-4bce-a1b1-c04ffe03dc08
X-WR-CALNAME:iCagenda
X-WR-CALDESC:Event Management Extension for Joomla!
X-WR-RELCALID:3E26604A-50F4-4449-8B3E-E4F4932D05B5
X-WR-TIMEZONE:Europe/Berlin
BEGIN:VTIMEZONE
TZID:Europe/Berlin
BEGIN:STANDARD
TZNAME:CET
DTSTART:20231029T030000
TZOFFSETFROM:+0200
TZOFFSETTO:+0100
RDATE:20241027T030000
RDATE:20251026T030000
END:STANDARD
BEGIN:DAYLIGHT
TZNAME:CEST
DTSTART:20240331T020000
TZOFFSETFROM:+0100
TZOFFSETTO:+0200
RDATE:20250330T020000
RDATE:20260329T020000
END:DAYLIGHT
END:VTIMEZONE
BEGIN:VEVENT
UID:f138d0a8-6403-4814-8637-4715b4ffde0f
DTSTAMP:20260422T015655Z
CATEGORIES:Verein
CLASS:PUBLIC
DESCRIPTION:
DTSTART:20241024T183000Z
DTEND:20241025T183000Z
GEO:00;0
LOCATION:
ORGANIZER:
SEQUENCE:1
SUMMARY:DSO Tagung in Frankfurt
TRANSP:OPAQUE
URL:https://transplant-kids.de/component/icagenda/48-dso-tagung-in-frankfur
 t?Itemid=101
END:VEVENT
END:VCALENDAR
