BEGIN:VCALENDAR
VERSION:2.0
PRODID:-//Transplant Kids e.V.//NONSGML kigkonsult.se iCalcreator 2.30.10//
CALSCALE:GREGORIAN
METHOD:PUBLISH
UID:cefa5dad-78af-4d57-a059-6853d96edd8e
X-WR-CALNAME:iCagenda
X-WR-CALDESC:Event Management Extension for Joomla!
X-WR-RELCALID:3E26604A-50F4-4449-8B3E-E4F4932D05B5
X-WR-TIMEZONE:Europe/Berlin
BEGIN:VTIMEZONE
TZID:Europe/Berlin
BEGIN:STANDARD
TZNAME:CET
DTSTART:20231029T030000
TZOFFSETFROM:+0200
TZOFFSETTO:+0100
RDATE:20241027T030000
RDATE:20251026T030000
END:STANDARD
BEGIN:DAYLIGHT
TZNAME:CEST
DTSTART:20240331T020000
TZOFFSETFROM:+0100
TZOFFSETTO:+0200
RDATE:20250330T020000
END:DAYLIGHT
END:VTIMEZONE
BEGIN:VEVENT
UID:dd757307-110f-4dad-a044-284429dceb8b
DTSTAMP:20260422T054538Z
CATEGORIES:Infostand
CLASS:PUBLIC
DESCRIPTION:
DTSTART:20240824T090000Z
DTEND:20240824T180000Z
GEO:00;0
LOCATION:Hesel
ORGANIZER:
SEQUENCE:1
SUMMARY:Event im Park Villa Popken
TRANSP:OPAQUE
URL:https://transplant-kids.de/component/icagenda/40-event-im-park-villa-po
 pken?Itemid=101
END:VEVENT
END:VCALENDAR
