BEGIN:VCALENDAR
VERSION:2.0
PRODID:-//Transplant Kids e.V.//NONSGML kigkonsult.se iCalcreator 2.30.10//
CALSCALE:GREGORIAN
METHOD:PUBLISH
UID:df81eba7-1d8b-4470-ad6c-34e043155d16
X-WR-CALNAME:iCagenda
X-WR-CALDESC:Event Management Extension for Joomla!
X-WR-RELCALID:3E26604A-50F4-4449-8B3E-E4F4932D05B5
X-WR-TIMEZONE:Europe/Berlin
BEGIN:VTIMEZONE
TZID:Europe/Berlin
BEGIN:STANDARD
TZNAME:CET
DTSTART:20241027T030000
TZOFFSETFROM:+0200
TZOFFSETTO:+0100
RDATE:20251026T030000
RDATE:20261025T030000
END:STANDARD
BEGIN:DAYLIGHT
TZNAME:CEST
DTSTART:20250330T020000
TZOFFSETFROM:+0100
TZOFFSETTO:+0200
RDATE:20260329T020000
RDATE:20270328T020000
END:DAYLIGHT
END:VTIMEZONE
BEGIN:VEVENT
UID:8f0b9575-3b22-4f3c-95fa-534a8508412b
DTSTAMP:20260421T053529Z
CATEGORIES:Sportveranstaltung
CLASS:PUBLIC
DESCRIPTION:
DTSTART:20251011T220000Z
DTEND:20251011T220000Z
GEO:00;0
LOCATION:Oldenburg
ORGANIZER:
SEQUENCE:1
SUMMARY:Oldenburg Marathon mit Infostand
TRANSP:OPAQUE
URL:https://transplant-kids.de/component/icagenda/30-oldenburg-marathon-2?I
 temid=101
END:VEVENT
END:VCALENDAR
