BEGIN:VCALENDAR
VERSION:2.0
PRODID:-//Transplant Kids e.V.//NONSGML kigkonsult.se iCalcreator 2.30.10//
CALSCALE:GREGORIAN
METHOD:PUBLISH
UID:9cf42639-ba08-4f0f-a4ee-745d70191bca
X-WR-CALNAME:iCagenda
X-WR-CALDESC:Event Management Extension for Joomla!
X-WR-RELCALID:3E26604A-50F4-4449-8B3E-E4F4932D05B5
X-WR-TIMEZONE:Europe/Berlin
BEGIN:VTIMEZONE
TZID:Europe/Berlin
BEGIN:STANDARD
TZNAME:CET
DTSTART:20231029T030000
TZOFFSETFROM:+0200
TZOFFSETTO:+0100
RDATE:20241027T030000
RDATE:20251026T030000
END:STANDARD
BEGIN:DAYLIGHT
TZNAME:CEST
DTSTART:20240331T020000
TZOFFSETFROM:+0100
TZOFFSETTO:+0200
RDATE:20250330T020000
END:DAYLIGHT
END:VTIMEZONE
BEGIN:VEVENT
UID:ceee205a-2bc6-476e-b48d-7fe1778d20f1
DTSTAMP:20260422T093347Z
CATEGORIES:Infostand
CLASS:PUBLIC
DESCRIPTION:
DTSTART:20240607T162100Z
DTEND:20240609T162100Z
GEO:00;0
LOCATION:VON HUSUM NACH DAMP
ORGANIZER:
SEQUENCE:1
SUMMARY:Lauf zwischen den Meeren in Damp
TRANSP:OPAQUE
URL:https://transplant-kids.de/component/icagenda/20-lauf-zwischen-den-meer
 en-in-damp?Itemid=101
END:VEVENT
END:VCALENDAR
